BEGIN:VCALENDAR
VERSION:2.0
PRODID:icalendar-ruby
CALSCALE:GREGORIAN
METHOD:PUBLISH
BEGIN:VEVENT
DTSTAMP:20260420T013102Z
UID:16-410151@sheltoncma.org
DTSTART:20260116T020000Z
DTEND:20260116T030000Z
CLASS:PUBLIC
CREATED:20260419T172538
DESCRIPTION:Men's Basecamp
LAST-MODIFIED:20260419T172538
LOCATION:
SUMMARY:Men's Bible Study
URL;VALUE=URI:https://www.sheltoncma.org/events/mens-bible-study/2026-01-15
ATTACH;FILENAME=Mens-Basecamp.jpeg;FMTTYPE=image/jpeg:https://dq5pwpg1q8ru0
 .cloudfront.net/2025/09/17/16/32/49/14fbac13-3f28-489a-8542-3c2db2aab25e/M
 ens-Basecamp.jpeg
END:VEVENT
END:VCALENDAR
